BEGIN:VCALENDAR
VERSION:2.0
BEGIN:VEVENT
SUMMARY:Building Bridges 2019 Summit
DTSTART:20191010T073000Z
DTEND:20191010T150000Z
LOCATION:Building Bridges 2019 Summit - 
DESCRIPTION:The first edition of “Building Bridges” in 2019 brings together diverse stakeholders in dialogue around the issues at stake.



Learn more about the 2019 Summit here.
END:VEVENT
END:VCALENDAR